BEGIN:VCALENDAR
VERSION:2.0
PRODID:-//Squarespace Inc/Squarespace 6//v6//EN
BEGIN:VEVENT
UID:5468c494e4b0cbc539f05f15@squarespace.com
DTSTAMP:20160329T114448Z
DTSTART:20150418T003000Z
DTEND:20150418T023000Z
SUMMARY:A Place to Shine Music Songwriter Showcase
GEO:42.27019670571626;-88.40425464887691
LOCATION:Mixin Mingle, 124 Cass St, Woodstock, IL, 60098, United States
END:VEVENT
END:VCALENDAR